BEGIN:VCALENDAR
VERSION:2.0
PRODID:-//Aperture Telescopes - ECPv6.15.16//NONSGML v1.0//EN
CALSCALE:GREGORIAN
METHOD:PUBLISH
X-WR-CALNAME:Aperture Telescopes
X-ORIGINAL-URL:https://aperturetelescopes.com
X-WR-CALDESC:Events for Aperture Telescopes
REFRESH-INTERVAL;VALUE=DURATION:PT1H
X-Robots-Tag:noindex
X-PUBLISHED-TTL:PT1H
BEGIN:VTIMEZONE
TZID:Asia/Kolkata
BEGIN:STANDARD
TZOFFSETFROM:+0530
TZOFFSETTO:+0530
TZNAME:IST
DTSTART:20200101T000000
END:STANDARD
END:VTIMEZONE
BEGIN:VEVENT
DTSTART;TZID=Asia/Kolkata:20210822T230000
DTEND;TZID=Asia/Kolkata:20210823T020000
DTSTAMP:20260424T160948
CREATED:20210720T063217Z
LAST-MODIFIED:20210821T031338Z
UID:2358-1629673200-1629684000@aperturetelescopes.com
SUMMARY:Two Shadows on Jupiter & Opposition of 2021 (Regretfully CANCELLED due weather)
DESCRIPTION:Its never an easy decision to cancel astronomy observation plans. The weather prediction looks bad on the night of two shadows\, all weather sites are predicting heavy cloud cover. \nThe event\, regretfully\, stands cancelled. \nLate Night Astrophotography Get-Together \nOn the night of 22nd August 2021\, shadows of Ganymede & Europa will fall on the surface of Jupiter. This relatively rare event is occurring just two days after the Opposition of Jupiter. Aperture Telescopes is organising a get together to photograph the interesting event at our facility at Manesar. \nThe session will be conducted by Planetary Photographer – Sona Sahani Shukla. Sona will give you an introduction of planetary imaging technique. Talk will be followed by photography of the event. A short session to process the capture before we end the get-together. \nWe will be setting up our Celestron 14-inch to photograph the event. The telescope has a focal length 0f 3910 mm at f/11\, which will be able to resolve fine details on the planet’s surface. If the atmosphere is steady\, we may be able to double the focal length for even better images. \nAdditionally we will also have a couple of large telescopes setup\, ready for visual observations of this interesting event.
URL:https://aperturetelescopes.com/event/two-shadows-on-jupiter-opposition-of-2021/
LOCATION:Aperture Telescopes’ Facility\, Aperture Telescopes\, 75\, Sector 1\, Manesar\, Gurgaon\, Haryana\, 122052\, India
CATEGORIES:Astrophotography Live Session
ATTACH;FMTTYPE=image/jpeg:https://aperturetelescopes.com/wp-content/uploads/2021/07/Jupiter-2-shadows.jpg
END:VEVENT
END:VCALENDAR